BEGIN:VCALENDAR
PRODID:-//eluceo/ical//2.0/EN
VERSION:2.0
CALSCALE:GREGORIAN
BEGIN:VEVENT
UID:fccf95d32f0389ac839060a7d6c67c8b
DTSTAMP:20260425T182318Z
SUMMARY:Tanzworkshop für Kurzentschlossene
DESCRIPTION:
DTSTART:20270417T130000
DTEND:20270417T130000
LOCATION:Bismarckstraße 35\, 10627 Berlin
BEGIN:VALARM
ACTION:DISPLAY
DESCRIPTION:Tanzworkshop für Kurzentschlossene
TRIGGER;VALUE=DATE-TIME:20270417T130000Z
END:VALARM
END:VEVENT
END:VCALENDAR