BEGIN:VCALENDAR
PRODID:-//eluceo/ical//2.0/EN
VERSION:2.0
CALSCALE:GREGORIAN
BEGIN:VEVENT
UID:a911ac4fb2dd201af615d8a3b0f0e778
DTSTAMP:20260425T183241Z
SUMMARY:Tanzworkshop für Kurzentschlossene
DESCRIPTION:Wir laden &nbsp\;alle zum gemeinsamen Tanz ein!Wir öffnen die 
 Türen des Apollosaals in der Staatsoper...
DTSTART:20260920T120000
DTEND:20260920T120000
LOCATION:Unter den Linden 7\, 10117 Berlin
BEGIN:VALARM
ACTION:DISPLAY
DESCRIPTION:Tanzworkshop für Kurzentschlossene
TRIGGER;VALUE=DATE-TIME:20260920T120000Z
END:VALARM
END:VEVENT
END:VCALENDAR