BEGIN:VCALENDAR
PRODID:-//eluceo/ical//2.0/EN
VERSION:2.0
CALSCALE:GREGORIAN
BEGIN:VEVENT
UID:fc378edec61a11a352b71291844bc74a
DTSTAMP:20260425T195601Z
SUMMARY:Ferienkurs
DESCRIPTION:Ich tanz' nach meiner Pfeife
DTSTART:20261026T094500
DTEND:20261026T114500
BEGIN:VALARM
ACTION:DISPLAY
DESCRIPTION:Ferienkurs
TRIGGER;VALUE=DATE-TIME:20261026T094500Z
END:VALARM
END:VEVENT
END:VCALENDAR