BEGIN:VCALENDAR
PRODID:-//eluceo/ical//2.0/EN
VERSION:2.0
CALSCALE:GREGORIAN
BEGIN:VEVENT
UID:04bbad010058f5a0ee06d10aa4d0f840
DTSTAMP:20260425T182702Z
SUMMARY:Feriencamp
DESCRIPTION:
DTSTART:20270330T092500
DTEND:20270330T092500
LOCATION:Unter den Linden 7\, 10117 Berlin
BEGIN:VALARM
ACTION:DISPLAY
DESCRIPTION:Feriencamp
TRIGGER;VALUE=DATE-TIME:20270330T092500Z
END:VALARM
END:VEVENT
END:VCALENDAR