BEGIN:VCALENDAR
PRODID:-//eluceo/ical//2.0/EN
VERSION:2.0
CALSCALE:GREGORIAN
BEGIN:VEVENT
UID:60febf5ad7cb4053305c5762fdf0813e
DTSTAMP:20260425T195550Z
SUMMARY:Feriencamp
DESCRIPTION:
DTSTART:20261019T093000
DTEND:20261019T093000
LOCATION:Unter den Linden 7\, 10117 Berlin
BEGIN:VALARM
ACTION:DISPLAY
DESCRIPTION:Feriencamp
TRIGGER;VALUE=DATE-TIME:20261019T093000Z
END:VALARM
END:VEVENT
END:VCALENDAR