BEGIN:VCALENDAR
PRODID:-//eluceo/ical//2.0/EN
VERSION:2.0
CALSCALE:GREGORIAN
BEGIN:VEVENT
UID:279c1dd334e433b543906b6b84e91a7e
DTSTAMP:20260425T182236Z
SUMMARY:TanzTanz Spezial XXL
DESCRIPTION:Im Rahmen von TanzTanz Spezial XXL können alle aktiv über ein
 en Tag hinweg in unterschiedlichen...
DTSTART:20270620T110000
DTEND:20270620T110000
LOCATION:Bismarckstraße 35\, 10627 Berlin
BEGIN:VALARM
ACTION:DISPLAY
DESCRIPTION:TanzTanz Spezial XXL
TRIGGER;VALUE=DATE-TIME:20270620T110000Z
END:VALARM
END:VEVENT
END:VCALENDAR