BEGIN:VCALENDAR
PRODID:-//eluceo/ical//2.0/EN
VERSION:2.0
CALSCALE:GREGORIAN
BEGIN:VEVENT
UID:628a82bf33ded6abdf6a3827bb497735
DTSTAMP:20260425T182237Z
SUMMARY:TanzTanz 
DESCRIPTION:Zeitgleich ein klassischer Workshop zu Nurejew und ein zeitgen
 össischer Workshop zu William Forsythe II
DTSTART:20270321T110000
DTEND:20270321T150000
LOCATION:Bismarckstraße 35\, 10627 Berlin
BEGIN:VALARM
ACTION:DISPLAY
DESCRIPTION:TanzTanz 
TRIGGER;VALUE=DATE-TIME:20270321T110000Z
END:VALARM
END:VEVENT
END:VCALENDAR