BEGIN:VCALENDAR
PRODID:-//eluceo/ical//2.0/EN
VERSION:2.0
CALSCALE:GREGORIAN
BEGIN:VEVENT
UID:72d1c636a2189a1dfcf828076b3f8f7a
DTSTAMP:20260425T182425Z
SUMMARY:TanzTanz 
DESCRIPTION:Zeitgleich ein klassischer Workshop zu Der Nussknacker und ein 
 zeitgenössischer Workshop zu 2 Chapters Love
DTSTART:20270110T110000
DTEND:20270110T150000
LOCATION:Bismarckstraße 35\, 10627 Berlin
BEGIN:VALARM
ACTION:DISPLAY
DESCRIPTION:TanzTanz 
TRIGGER;VALUE=DATE-TIME:20270110T110000Z
END:VALARM
END:VEVENT
END:VCALENDAR