BEGIN:VCALENDAR
PRODID:-//eluceo/ical//2.0/EN
VERSION:2.0
CALSCALE:GREGORIAN
BEGIN:VEVENT
UID:97c58912c4a7e66a71c9af743d23063d
DTSTAMP:20260425T182625Z
SUMMARY:TanzTanz 
DESCRIPTION:Zeitgleich zwei klassische Workshops zu Giselle
DTSTART:20261004T110000
DTEND:20261004T150000
LOCATION:Bismarckstraße 35\, 10627 Berlin
BEGIN:VALARM
ACTION:DISPLAY
DESCRIPTION:TanzTanz 
TRIGGER;VALUE=DATE-TIME:20261004T110000Z
END:VALARM
END:VEVENT
END:VCALENDAR