BEGIN:VCALENDAR
PRODID:-//eluceo/ical//2.0/EN
VERSION:2.0
CALSCALE:GREGORIAN
BEGIN:VEVENT
UID:42da2036dcaf44ec1726b6cee01d1f67
DTSTAMP:20260425T182613Z
SUMMARY:Familiennacht
DESCRIPTION:Wenn es langsam dunkel wird und die Tänzer*innen ihre Füße z
 ur Ruhe legen\, dann öffnen sich die...
DTSTART:20261010T170000
DTEND:20261010T180000
LOCATION:Bismarckstraße 35\, 10627 Berlin
BEGIN:VALARM
ACTION:DISPLAY
DESCRIPTION:Familiennacht
TRIGGER;VALUE=DATE-TIME:20261010T170000Z
END:VALARM
END:VEVENT
END:VCALENDAR