BEGIN:VCALENDAR
PRODID:-//eluceo/ical//2.0/EN
VERSION:2.0
CALSCALE:GREGORIAN
BEGIN:VEVENT
UID:ff63fda226b8ee537a83d1458bdff116
DTSTAMP:20260425T182624Z
SUMMARY:Staatliche Ballett- und Artistikschule
DESCRIPTION:Es ist seit Jahrzehnten Tradition\, dass die Schüler*innen der
  Staatlichen Ballett- und Artistikschule...
DTSTART:20270625T190000
DTEND:20270625T190000
LOCATION:Unter den Linden 7\, 10117 Berlin
BEGIN:VALARM
ACTION:DISPLAY
DESCRIPTION:Staatliche Ballett- und Artistikschule
TRIGGER;VALUE=DATE-TIME:20270625T190000Z
END:VALARM
END:VEVENT
END:VCALENDAR