BEGIN:VCALENDAR
PRODID:-//eluceo/ical//2.0/EN
VERSION:2.0
CALSCALE:GREGORIAN
BEGIN:VEVENT
UID:bb137853d3096197141991a9f03c8879
DTSTAMP:20260425T183103Z
SUMMARY:Staatliche Ballett- und Artistikschule
DESCRIPTION:Es ist seit Jahrzehnten Tradition\, dass die Schüler*innen der
  Staatlichen Ballett- und Artistikschule...
DTSTART:20270624T190000
DTEND:20270624T190000
LOCATION:Unter den Linden 7\, 10117 Berlin
BEGIN:VALARM
ACTION:DISPLAY
DESCRIPTION:Staatliche Ballett- und Artistikschule
TRIGGER;VALUE=DATE-TIME:20270624T190000Z
END:VALARM
END:VEVENT
END:VCALENDAR