BEGIN:VCALENDAR
PRODID:-//eluceo/ical//2.0/EN
VERSION:2.0
CALSCALE:GREGORIAN
BEGIN:VEVENT
UID:5eb3dde4efc9bbc86b49c15d16ae7c21
DTSTAMP:20260419T205113Z
SUMMARY:Der Liebhaber
DESCRIPTION:Marco Goeckes Der Liebhaber basiert auf dem Roman L’Amant von
  Marguerite Duras aus dem...
DTSTART:20270611T193000
DTEND:20270611T193000
LOCATION:Unter den Linden 7\, 10117 Berlin
BEGIN:VALARM
ACTION:DISPLAY
DESCRIPTION:Der Liebhaber
TRIGGER;VALUE=DATE-TIME:20270611T193000Z
END:VALARM
END:VEVENT
END:VCALENDAR