BEGIN:VCALENDAR
PRODID:-//eluceo/ical//2.0/EN
VERSION:2.0
CALSCALE:GREGORIAN
BEGIN:VEVENT
UID:3a03925a201a9fa0dc7a18236581a7af
DTSTAMP:20260419T204022Z
SUMMARY:Der Liebhaber
DESCRIPTION:Marco Goeckes Der Liebhaber basiert auf dem Roman L’Amant von
  Marguerite Duras aus dem...
DTSTART:20270605T193000
DTEND:20270605T193000
LOCATION:Unter den Linden 7\, 10117 Berlin
BEGIN:VALARM
ACTION:DISPLAY
DESCRIPTION:Der Liebhaber
TRIGGER;VALUE=DATE-TIME:20270605T193000Z
END:VALARM
END:VEVENT
END:VCALENDAR