BEGIN:VCALENDAR
PRODID:-//eluceo/ical//2.0/EN
VERSION:2.0
CALSCALE:GREGORIAN
BEGIN:VEVENT
UID:72b765612ba357c7a034bd40db2a4490
DTSTAMP:20260425T182926Z
SUMMARY:Chicxulub oder Der Floh des Teufels
DESCRIPTION:Ensemblemitglied Dominik White Slavkovský kreiert mit Chicxulu
 b oder Der Floh des Teufels ein...
DTSTART:20270604T110000
DTEND:20270604T115000
LOCATION:Zillestraße 63\, 10585 Berlin
BEGIN:VALARM
ACTION:DISPLAY
DESCRIPTION:Chicxulub oder Der Floh des Teufels
TRIGGER;VALUE=DATE-TIME:20270604T110000Z
END:VALARM
END:VEVENT
END:VCALENDAR