BEGIN:VCALENDAR
PRODID:-//eluceo/ical//2.0/EN
VERSION:2.0
CALSCALE:GREGORIAN
BEGIN:VEVENT
UID:2c4e32ede0fb7bf6dcd6728faa954e8d
DTSTAMP:20260425T200758Z
SUMMARY:Chicxulub oder Der Floh des Teufels
DESCRIPTION:Ensemblemitglied Dominik White Slavkovský kreiert mit Chicxulu
 b oder Der Floh des Teufels ein...
DTSTART:20270602T110000
DTEND:20270602T115000
LOCATION:Zillestraße 63\, 10585 Berlin
BEGIN:VALARM
ACTION:DISPLAY
DESCRIPTION:Chicxulub oder Der Floh des Teufels
TRIGGER;VALUE=DATE-TIME:20270602T110000Z
END:VALARM
END:VEVENT
END:VCALENDAR