BEGIN:VCALENDAR
PRODID:-//eluceo/ical//2.0/EN
VERSION:2.0
CALSCALE:GREGORIAN
BEGIN:VEVENT
UID:82c17f454e0bc36176f7e7d89cc8fd89
DTSTAMP:20260425T200153Z
SUMMARY:Chicxulub oder Der Floh des Teufels
DESCRIPTION:Ensemblemitglied Dominik White Slavkovský kreiert mit Chicxulu
 b oder Der Floh des Teufels ein...
DTSTART:20270601T110000
DTEND:20270601T115000
LOCATION:Zillestraße 63\, 10585 Berlin
BEGIN:VALARM
ACTION:DISPLAY
DESCRIPTION:Chicxulub oder Der Floh des Teufels
TRIGGER;VALUE=DATE-TIME:20270601T110000Z
END:VALARM
END:VEVENT
END:VCALENDAR