BEGIN:VCALENDAR
PRODID:-//eluceo/ical//2.0/EN
VERSION:2.0
CALSCALE:GREGORIAN
BEGIN:VEVENT
UID:008e29cd6bb2d4350253f3f58a6def15
DTSTAMP:20260425T182742Z
SUMMARY:Chicxulub oder Der Floh des Teufels
DESCRIPTION:Ensemblemitglied Dominik White Slavkovský kreiert mit Chicxulu
 b oder Der Floh des Teufels ein...
DTSTART:20270531T110000
DTEND:20270531T115000
LOCATION:Zillestraße 63\, 10585 Berlin
BEGIN:VALARM
ACTION:DISPLAY
DESCRIPTION:Chicxulub oder Der Floh des Teufels
TRIGGER;VALUE=DATE-TIME:20270531T110000Z
END:VALARM
END:VEVENT
END:VCALENDAR