BEGIN:VCALENDAR
PRODID:-//eluceo/ical//2.0/EN
VERSION:2.0
CALSCALE:GREGORIAN
BEGIN:VEVENT
UID:c53fa34fe1f735aab563d24c0ce690a1
DTSTAMP:20260425T200123Z
SUMMARY:Premierengespräch: Der Liebhaber
DESCRIPTION:Die Gelegenheit ist günstig und kehrt nicht wieder: An einem S
 onntagvormittag vor dem großen Ereignis...
DTSTART:20270523T110000
DTEND:20270523T110000
LOCATION:Unter den Linden 7\, 10117 Berlin
BEGIN:VALARM
ACTION:DISPLAY
DESCRIPTION:Premierengespräch: Der Liebhaber
TRIGGER;VALUE=DATE-TIME:20270523T110000Z
END:VALARM
END:VEVENT
END:VCALENDAR