BEGIN:VCALENDAR
PRODID:-//eluceo/ical//2.0/EN
VERSION:2.0
CALSCALE:GREGORIAN
BEGIN:VEVENT
UID:43a3af6f78e7299665af250e9846bc86
DTSTAMP:20260425T183350Z
SUMMARY:Nurejew
DESCRIPTION:Das vielfach preisgekrönte Ballett Nurejew\, choreographiert v
 on Yuri Possokhov\, komponiert von...
DTSTART:20270517T193000
DTEND:20270517T215000
LOCATION:Bismarckstraße 35\, 10627 Berlin
BEGIN:VALARM
ACTION:DISPLAY
DESCRIPTION:Nurejew
TRIGGER;VALUE=DATE-TIME:20270517T193000Z
END:VALARM
END:VEVENT
END:VCALENDAR