BEGIN:VCALENDAR
PRODID:-//eluceo/ical//2.0/EN
VERSION:2.0
CALSCALE:GREGORIAN
BEGIN:VEVENT
UID:07168a32aed947878b2a5038878a8467
DTSTAMP:20260425T183141Z
SUMMARY:Nurejew
DESCRIPTION:Das vielfach preisgekrönte Ballett Nurejew\, choreographiert v
 on Yuri Possokhov\, komponiert von...
DTSTART:20270515T193000
DTEND:20270515T215000
LOCATION:Bismarckstraße 35\, 10627 Berlin
BEGIN:VALARM
ACTION:DISPLAY
DESCRIPTION:Nurejew
TRIGGER;VALUE=DATE-TIME:20270515T193000Z
END:VALARM
END:VEVENT
END:VCALENDAR