BEGIN:VCALENDAR
PRODID:-//eluceo/ical//2.0/EN
VERSION:2.0
CALSCALE:GREGORIAN
BEGIN:VEVENT
UID:55e00b21a5b2760974628d6f3e0a8f07
DTSTAMP:20260425T182947Z
SUMMARY:Nurejew
DESCRIPTION:Das vielfach preisgekrönte Ballett Nurejew\, choreographiert v
 on Yuri Possokhov\, komponiert von...
DTSTART:20270507T193000
DTEND:20270507T215000
LOCATION:Bismarckstraße 35\, 10627 Berlin
BEGIN:VALARM
ACTION:DISPLAY
DESCRIPTION:Nurejew
TRIGGER;VALUE=DATE-TIME:20270507T193000Z
END:VALARM
END:VEVENT
END:VCALENDAR