BEGIN:VCALENDAR
PRODID:-//eluceo/ical//2.0/EN
VERSION:2.0
CALSCALE:GREGORIAN
BEGIN:VEVENT
UID:650b266df490b58c2637f87c72a4dbcc
DTSTAMP:20260425T195550Z
SUMMARY:Nurejew
DESCRIPTION:Das vielfach preisgekrönte Ballett Nurejew\, choreographiert v
 on Yuri Possokhov\, komponiert von...
DTSTART:20270430T193000
DTEND:20270430T215000
LOCATION:Bismarckstraße 35\, 10627 Berlin
BEGIN:VALARM
ACTION:DISPLAY
DESCRIPTION:Nurejew
TRIGGER;VALUE=DATE-TIME:20270430T193000Z
END:VALARM
END:VEVENT
END:VCALENDAR