BEGIN:VCALENDAR
PRODID:-//eluceo/ical//2.0/EN
VERSION:2.0
CALSCALE:GREGORIAN
BEGIN:VEVENT
UID:95fada05288826067f49b508621cc92f
DTSTAMP:20260425T200726Z
SUMMARY:Nurejew
DESCRIPTION:Das vielfach preisgekrönte Ballett Nurejew\, choreographiert v
 on Yuri Possokhov\, komponiert von...
DTSTART:20270426T193000
DTEND:20270426T215000
LOCATION:Bismarckstraße 35\, 10627 Berlin
BEGIN:VALARM
ACTION:DISPLAY
DESCRIPTION:Nurejew
TRIGGER;VALUE=DATE-TIME:20270426T193000Z
END:VALARM
END:VEVENT
END:VCALENDAR