BEGIN:VCALENDAR
PRODID:-//eluceo/ical//2.0/EN
VERSION:2.0
CALSCALE:GREGORIAN
BEGIN:VEVENT
UID:aaa490bd758a69d1a66396692097905c
DTSTAMP:20260419T230700Z
SUMMARY:William Forsythe II
DESCRIPTION:Dieser Abend vereint zwei zentrale Werke des Choreographen Will
 iam Forsythe\, die Ballett nicht...
DTSTART:20270624T193000
DTEND:20270624T211500
LOCATION:Bismarckstraße 35\, 10627 Berlin
BEGIN:VALARM
ACTION:DISPLAY
DESCRIPTION:William Forsythe II
TRIGGER;VALUE=DATE-TIME:20270624T193000Z
END:VALARM
END:VEVENT
END:VCALENDAR