BEGIN:VCALENDAR
PRODID:-//eluceo/ical//2.0/EN
VERSION:2.0
CALSCALE:GREGORIAN
BEGIN:VEVENT
UID:9f85e0c37e48756cd28e1f2c0175a904
DTSTAMP:20260419T213937Z
SUMMARY:William Forsythe II
DESCRIPTION:Dieser Abend vereint zwei zentrale Werke des Choreographen Will
 iam Forsythe\, die Ballett nicht...
DTSTART:20270619T193000
DTEND:20270619T211500
LOCATION:Bismarckstraße 35\, 10627 Berlin
BEGIN:VALARM
ACTION:DISPLAY
DESCRIPTION:William Forsythe II
TRIGGER;VALUE=DATE-TIME:20270619T193000Z
END:VALARM
END:VEVENT
END:VCALENDAR