BEGIN:VCALENDAR
PRODID:-//eluceo/ical//2.0/EN
VERSION:2.0
CALSCALE:GREGORIAN
BEGIN:VEVENT
UID:02aad7eb50764be893d25299aa4fc301
DTSTAMP:20260419T213906Z
SUMMARY:William Forsythe II
DESCRIPTION:Dieser Abend vereint zwei zentrale Werke des Choreographen Will
 iam Forsythe\, die Ballett nicht...
DTSTART:20270414T193000
DTEND:20270414T211500
LOCATION:Bismarckstraße 35\, 10627 Berlin
BEGIN:VALARM
ACTION:DISPLAY
DESCRIPTION:William Forsythe II
TRIGGER;VALUE=DATE-TIME:20270414T193000Z
END:VALARM
END:VEVENT
END:VCALENDAR