BEGIN:VCALENDAR
PRODID:-//eluceo/ical//2.0/EN
VERSION:2.0
CALSCALE:GREGORIAN
BEGIN:VEVENT
UID:914b801bc6a9b8320b221a9fa55c3ab7
DTSTAMP:20260419T213733Z
SUMMARY:William Forsythe II
DESCRIPTION:Dieser Abend vereint zwei zentrale Werke des Choreographen Will
 iam Forsythe\, die Ballett nicht...
DTSTART:20270402T193000
DTEND:20270402T211500
LOCATION:Bismarckstraße 35\, 10627 Berlin
BEGIN:VALARM
ACTION:DISPLAY
DESCRIPTION:William Forsythe II
TRIGGER;VALUE=DATE-TIME:20270402T193000Z
END:VALARM
END:VEVENT
END:VCALENDAR