BEGIN:VCALENDAR
PRODID:-//eluceo/ical//2.0/EN
VERSION:2.0
CALSCALE:GREGORIAN
BEGIN:VEVENT
UID:baa1c78b0346d3f3483528c0a53c3262
DTSTAMP:20260419T214609Z
SUMMARY:William Forsythe II
DESCRIPTION:Dieser Abend vereint zwei zentrale Werke des Choreographen Will
 iam Forsythe\, die Ballett nicht...
DTSTART:20270319T193000
DTEND:20270319T211500
LOCATION:Bismarckstraße 35\, 10627 Berlin
BEGIN:VALARM
ACTION:DISPLAY
DESCRIPTION:William Forsythe II
TRIGGER;VALUE=DATE-TIME:20270319T193000Z
END:VALARM
END:VEVENT
END:VCALENDAR