BEGIN:VCALENDAR
PRODID:-//eluceo/ical//2.0/EN
VERSION:2.0
CALSCALE:GREGORIAN
BEGIN:VEVENT
UID:6f2577f7ed4518b4958d5de4a394c584
DTSTAMP:20260425T195723Z
SUMMARY:Premierengespräch: William Forsythe II
DESCRIPTION:Die Gelegenheit ist günstig und kehrt nicht wieder: An einem S
 onntagvormittag vor dem großen Ereignis...
DTSTART:20270307T110000
DTEND:20270307T124500
LOCATION:Bismarckstraße 35\, 10627 Berlin
BEGIN:VALARM
ACTION:DISPLAY
DESCRIPTION:Premierengespräch: William Forsythe II
TRIGGER;VALUE=DATE-TIME:20270307T110000Z
END:VALARM
END:VEVENT
END:VCALENDAR