BEGIN:VCALENDAR
PRODID:-//eluceo/ical//2.0/EN
VERSION:2.0
CALSCALE:GREGORIAN
BEGIN:VEVENT
UID:a1eb7cf934367278905fe0de775deefb
DTSTAMP:20260425T182306Z
SUMMARY:Fearful Symmetries
DESCRIPTION:Symphony in C / Fearful Symmetries
DTSTART:20270406T193000
DTEND:20270406T210000
LOCATION:Unter den Linden 7\, 10117 Berlin
BEGIN:VALARM
ACTION:DISPLAY
DESCRIPTION:Fearful Symmetries
TRIGGER;VALUE=DATE-TIME:20270406T193000Z
END:VALARM
END:VEVENT
END:VCALENDAR