BEGIN:VCALENDAR
PRODID:-//eluceo/ical//2.0/EN
VERSION:2.0
CALSCALE:GREGORIAN
BEGIN:VEVENT
UID:e8b4eacaf2c3256ca4e1016445c288a2
DTSTAMP:20260425T182305Z
SUMMARY:Fearful Symmetries
DESCRIPTION:Symphony in C / Fearful Symmetries
DTSTART:20270226T193000
DTEND:20270226T210000
LOCATION:Unter den Linden 7\, 10117 Berlin
BEGIN:VALARM
ACTION:DISPLAY
DESCRIPTION:Fearful Symmetries
TRIGGER;VALUE=DATE-TIME:20270226T193000Z
END:VALARM
END:VEVENT
END:VCALENDAR