BEGIN:VCALENDAR
PRODID:-//eluceo/ical//2.0/EN
VERSION:2.0
CALSCALE:GREGORIAN
BEGIN:VEVENT
UID:2e988472dabd408c3ed242412107470e
DTSTAMP:20260425T183114Z
SUMMARY:Fearful Symmetries
DESCRIPTION:Symphony in C / Fearful Symmetries
DTSTART:20270218T193000
DTEND:20270218T210000
LOCATION:Unter den Linden 7\, 10117 Berlin
BEGIN:VALARM
ACTION:DISPLAY
DESCRIPTION:Fearful Symmetries
TRIGGER;VALUE=DATE-TIME:20270218T193000Z
END:VALARM
END:VEVENT
END:VCALENDAR