BEGIN:VCALENDAR
PRODID:-//eluceo/ical//2.0/EN
VERSION:2.0
CALSCALE:GREGORIAN
BEGIN:VEVENT
UID:e2ed810fca9b41e2dadd8a804e59cc46
DTSTAMP:20260425T182947Z
SUMMARY:Fearful Symmetries
DESCRIPTION:Symphony in C / Fearful Symmetries
DTSTART:20270214T190000
DTEND:20270214T203000
LOCATION:Unter den Linden 7\, 10117 Berlin
BEGIN:VALARM
ACTION:DISPLAY
DESCRIPTION:Fearful Symmetries
TRIGGER;VALUE=DATE-TIME:20270214T190000Z
END:VALARM
END:VEVENT
END:VCALENDAR