BEGIN:VCALENDAR
PRODID:-//eluceo/ical//2.0/EN
VERSION:2.0
CALSCALE:GREGORIAN
BEGIN:VEVENT
UID:be827279d802a65daf9048723d9aba1f
DTSTAMP:20260425T182743Z
SUMMARY:Fearful Symmetries
DESCRIPTION:Symphony in C / Fearful Symmetries
DTSTART:20270212T193000
DTEND:20270212T210000
LOCATION:Unter den Linden 7\, 10117 Berlin
BEGIN:VALARM
ACTION:DISPLAY
DESCRIPTION:Fearful Symmetries
TRIGGER;VALUE=DATE-TIME:20270212T193000Z
END:VALARM
END:VEVENT
END:VCALENDAR