BEGIN:VCALENDAR
PRODID:-//eluceo/ical//2.0/EN
VERSION:2.0
CALSCALE:GREGORIAN
BEGIN:VEVENT
UID:7ecfea89301b3ccdbc0cb698d60329f4
DTSTAMP:20260425T182236Z
SUMMARY:Training zum Zuschauen
DESCRIPTION:Selten hat das Publikum die Möglichkeit\, die Tänzer*innen de
 s Staatsballetts Berlin beim Training zu...
DTSTART:20270417T110000
DTEND:20270417T110000
LOCATION:Bismarckstraße 35\, 10627 Berlin
BEGIN:VALARM
ACTION:DISPLAY
DESCRIPTION:Training zum Zuschauen
TRIGGER;VALUE=DATE-TIME:20270417T110000Z
END:VALARM
END:VEVENT
END:VCALENDAR