BEGIN:VCALENDAR
PRODID:-//eluceo/ical//2.0/EN
VERSION:2.0
CALSCALE:GREGORIAN
BEGIN:VEVENT
UID:813a6689aae368a2a61d74f5a61de27c
DTSTAMP:20260425T195845Z
SUMMARY:Training zum Zuschauen
DESCRIPTION:Selten hat das Publikum die Möglichkeit\, die Tänzer*innen de
 s Staatsballetts Berlin beim Training zu...
DTSTART:20270130T110000
DTEND:20270130T110000
LOCATION:Bismarckstraße 35\, 10627 Berlin
BEGIN:VALARM
ACTION:DISPLAY
DESCRIPTION:Training zum Zuschauen
TRIGGER;VALUE=DATE-TIME:20270130T110000Z
END:VALARM
END:VEVENT
END:VCALENDAR