BEGIN:VCALENDAR
PRODID:-//eluceo/ical//2.0/EN
VERSION:2.0
CALSCALE:GREGORIAN
BEGIN:VEVENT
UID:3563b1e3d1bd89b4a3a2e3c6829b6fd6
DTSTAMP:20260425T183308Z
SUMMARY:2 Chapters Love
DESCRIPTION:Gods and Dogs / 2 Chapters Love
DTSTART:20270523T190000
DTEND:20270523T203000
LOCATION:Unter den Linden 7\, 10117 Berlin
BEGIN:VALARM
ACTION:DISPLAY
DESCRIPTION:2 Chapters Love
TRIGGER;VALUE=DATE-TIME:20270523T190000Z
END:VALARM
END:VEVENT
END:VCALENDAR