BEGIN:VCALENDAR
PRODID:-//eluceo/ical//2.0/EN
VERSION:2.0
CALSCALE:GREGORIAN
BEGIN:VEVENT
UID:0222d968934d3bb1f164b4fd374ec8a6
DTSTAMP:20260425T182947Z
SUMMARY:2 Chapters Love
DESCRIPTION:Gods and Dogs / 2 Chapters Love
DTSTART:20270516T180000
DTEND:20270516T193000
LOCATION:Unter den Linden 7\, 10117 Berlin
BEGIN:VALARM
ACTION:DISPLAY
DESCRIPTION:2 Chapters Love
TRIGGER;VALUE=DATE-TIME:20270516T180000Z
END:VALARM
END:VEVENT
END:VCALENDAR