BEGIN:VCALENDAR
PRODID:-//eluceo/ical//2.0/EN
VERSION:2.0
CALSCALE:GREGORIAN
BEGIN:VEVENT
UID:e1c813d362bab78d5288e5b984139319
DTSTAMP:20260425T182317Z
SUMMARY:2 Chapters Love
DESCRIPTION:Gods and Dogs / 2 Chapters Love
DTSTART:20270204T193000
DTEND:20270204T210000
LOCATION:Unter den Linden 7\, 10117 Berlin
BEGIN:VALARM
ACTION:DISPLAY
DESCRIPTION:2 Chapters Love
TRIGGER;VALUE=DATE-TIME:20270204T193000Z
END:VALARM
END:VEVENT
END:VCALENDAR