BEGIN:VCALENDAR
PRODID:-//eluceo/ical//2.0/EN
VERSION:2.0
CALSCALE:GREGORIAN
BEGIN:VEVENT
UID:7001b1fffd99b61766d82da379681fad
DTSTAMP:20260425T182435Z
SUMMARY:2 Chapters Love
DESCRIPTION:Gods and Dogs / 2 Chapters Love
DTSTART:20270128T193000
DTEND:20270128T210000
LOCATION:Unter den Linden 7\, 10117 Berlin
BEGIN:VALARM
ACTION:DISPLAY
DESCRIPTION:2 Chapters Love
TRIGGER;VALUE=DATE-TIME:20270128T193000Z
END:VALARM
END:VEVENT
END:VCALENDAR