BEGIN:VCALENDAR
PRODID:-//eluceo/ical//2.0/EN
VERSION:2.0
CALSCALE:GREGORIAN
BEGIN:VEVENT
UID:8eb6010c95ab387ba3949351c0e04727
DTSTAMP:20260425T182620Z
SUMMARY:2 Chapters Love
DESCRIPTION:Gods and Dogs / 2 Chapters Love
DTSTART:20261211T193000
DTEND:20261211T210000
LOCATION:Unter den Linden 7\, 10117 Berlin
BEGIN:VALARM
ACTION:DISPLAY
DESCRIPTION:2 Chapters Love
TRIGGER;VALUE=DATE-TIME:20261211T193000Z
END:VALARM
END:VEVENT
END:VCALENDAR