BEGIN:VCALENDAR
PRODID:-//eluceo/ical//2.0/EN
VERSION:2.0
CALSCALE:GREGORIAN
BEGIN:VEVENT
UID:34c71cbffd51ac5ffb888bef9c43d55e
DTSTAMP:20260419T203851Z
SUMMARY:Der Nussknacker
DESCRIPTION:Christian Spucks Neuinszenierung rückt die literarische Vorlag
 e von E.T.A. Hoffmann ins Zentrum und...
DTSTART:20270125T193000
DTEND:20270125T214500
LOCATION:Bismarckstraße 35\, 10627 Berlin
BEGIN:VALARM
ACTION:DISPLAY
DESCRIPTION:Der Nussknacker
TRIGGER;VALUE=DATE-TIME:20270125T193000Z
END:VALARM
END:VEVENT
END:VCALENDAR