BEGIN:VCALENDAR
PRODID:-//eluceo/ical//2.0/EN
VERSION:2.0
CALSCALE:GREGORIAN
BEGIN:VEVENT
UID:96cc7ef101772896b70424b8b25a7415
DTSTAMP:20260419T204250Z
SUMMARY:Der Nussknacker
DESCRIPTION:Christian Spucks Neuinszenierung rückt die literarische Vorlag
 e von E.T.A. Hoffmann ins Zentrum und...
DTSTART:20270124T150000
DTEND:20270124T171500
LOCATION:Bismarckstraße 35\, 10627 Berlin
BEGIN:VALARM
ACTION:DISPLAY
DESCRIPTION:Der Nussknacker
TRIGGER;VALUE=DATE-TIME:20270124T150000Z
END:VALARM
END:VEVENT
END:VCALENDAR