BEGIN:VCALENDAR
PRODID:-//eluceo/ical//2.0/EN
VERSION:2.0
CALSCALE:GREGORIAN
BEGIN:VEVENT
UID:4785155a2eaad9fed6cb66dedeb2ba03
DTSTAMP:20260419T204307Z
SUMMARY:Der Nussknacker
DESCRIPTION:Christian Spucks Neuinszenierung rückt die literarische Vorlag
 e von E.T.A. Hoffmann ins Zentrum und...
DTSTART:20261229T193000
DTEND:20261229T214500
LOCATION:Bismarckstraße 35\, 10627 Berlin
BEGIN:VALARM
ACTION:DISPLAY
DESCRIPTION:Der Nussknacker
TRIGGER;VALUE=DATE-TIME:20261229T193000Z
END:VALARM
END:VEVENT
END:VCALENDAR