BEGIN:VCALENDAR
PRODID:-//eluceo/ical//2.0/EN
VERSION:2.0
CALSCALE:GREGORIAN
BEGIN:VEVENT
UID:f0bfdfa10741eacedb8d56eee9ce4df0
DTSTAMP:20260419T204418Z
SUMMARY:Der Nussknacker
DESCRIPTION:Christian Spucks Neuinszenierung rückt die literarische Vorlag
 e von E.T.A. Hoffmann ins Zentrum und...
DTSTART:20261225T150000
DTEND:20261225T171500
LOCATION:Bismarckstraße 35\, 10627 Berlin
BEGIN:VALARM
ACTION:DISPLAY
DESCRIPTION:Der Nussknacker
TRIGGER;VALUE=DATE-TIME:20261225T150000Z
END:VALARM
END:VEVENT
END:VCALENDAR