BEGIN:VCALENDAR
PRODID:-//eluceo/ical//2.0/EN
VERSION:2.0
CALSCALE:GREGORIAN
BEGIN:VEVENT
UID:a5da3e860b1c6c8354cb62103417f221
DTSTAMP:20260419T204640Z
SUMMARY:Der Nussknacker
DESCRIPTION:Christian Spucks Neuinszenierung rückt die literarische Vorlag
 e von E.T.A. Hoffmann ins Zentrum und...
DTSTART:20261127T193000
DTEND:20261127T214500
LOCATION:Bismarckstraße 35\, 10627 Berlin
BEGIN:VALARM
ACTION:DISPLAY
DESCRIPTION:Der Nussknacker
TRIGGER;VALUE=DATE-TIME:20261127T193000Z
END:VALARM
END:VEVENT
END:VCALENDAR