BEGIN:VCALENDAR
PRODID:-//eluceo/ical//2.0/EN
VERSION:2.0
CALSCALE:GREGORIAN
BEGIN:VEVENT
UID:5834a42c4d89a76fb5c874b871229a42
DTSTAMP:20260425T200635Z
SUMMARY:Premierengespräch: Der Nussknacker
DESCRIPTION:Die Gelegenheit ist günstig und kehrt nicht wieder: An einem S
 onntagvormittag vor dem großen Ereignis...
DTSTART:20261108T110000
DTEND:20261108T110000
LOCATION:Bismarckstraße 35\, 10627 Berlin
BEGIN:VALARM
ACTION:DISPLAY
DESCRIPTION:Premierengespräch: Der Nussknacker
TRIGGER;VALUE=DATE-TIME:20261108T110000Z
END:VALARM
END:VEVENT
END:VCALENDAR