BEGIN:VCALENDAR
PRODID:-//eluceo/ical//2.0/EN
VERSION:2.0
CALSCALE:GREGORIAN
BEGIN:VEVENT
UID:d714b99488d51112626be5f54286d6aa
DTSTAMP:20260422T155737Z
SUMMARY:Wunderkammer
DESCRIPTION:Marcos Morau\, preisgekrönter Choreograph und Artist in Reside
 nce beim Staatsballett Berlin\, ruft mit...
DTSTART:20261108T180000
DTEND:20261108T191000
BEGIN:VALARM
ACTION:DISPLAY
DESCRIPTION:Wunderkammer
TRIGGER;VALUE=DATE-TIME:20261108T180000Z
END:VALARM
END:VEVENT
END:VCALENDAR