BEGIN:VCALENDAR
PRODID:-//eluceo/ical//2.0/EN
VERSION:2.0
CALSCALE:GREGORIAN
BEGIN:VEVENT
UID:8d321d35c8fe6b0e094a354e83942e9e
DTSTAMP:20260422T160309Z
SUMMARY:Wunderkammer
DESCRIPTION:Marcos Morau\, preisgekrönter Choreograph und Artist in Reside
 nce beim Staatsballett Berlin\, ruft mit...
DTSTART:20261106T200000
DTEND:20261106T211000
BEGIN:VALARM
ACTION:DISPLAY
DESCRIPTION:Wunderkammer
TRIGGER;VALUE=DATE-TIME:20261106T200000Z
END:VALARM
END:VEVENT
END:VCALENDAR